BEGIN:VCALENDAR
VERSION:2.0
PRODID:-//ChamberMaster//Event Calendar 2.0//EN
METHOD:PUBLISH
X-PUBLISHED-TTL:P3D
REFRESH-INTERVAL:P3D
CALSCALE:GREGORIAN
BEGIN:VEVENT
DTSTART:20141021T160000Z
DTEND:20141021T170000Z
X-MICROSOFT-CDO-ALLDAYEVENT:FALSE
SUMMARY:2014 Manufacturers & Technology Week Tours - MN State College SE Tech Tour
DESCRIPTION:Manufacturers & Technology Week\n\nTour for Southeast Technical College CNC and Welding Programs (half hour for CNC portion of tour and half hour for welding portion of tour)\n\nAll tour participants should come in the main college doors by the Information desk (1250 Homer Road)
X-ALT-DESC;FMTTYPE=text/html:<span style="font-size:14px\;"><strong>Manufacturers &amp\; Technology Week</strong></span><br />\nTour for Southeast Technical College CNC and Welding Programs (half hour for CNC portion of tour and half hour for welding portion of tour)<br />\nAll tour participants should come in the main college doors by the Information desk (1250 Homer Road)<br />\n<br />\n<br />\n&nbsp\;
LOCATION:
UID:e.1434.2213
SEQUENCE:3
DTSTAMP:20260419T140227Z
URL:http://business.winonachamber.com/events/details/2014-manufacturers-technology-week-tours-mn-state-college-se-tech-tour-10-21-2014-2213
END:VEVENT

END:VCALENDAR
