BEGIN:VCALENDAR
VERSION:2.0
PRODID:-//ChamberMaster//Event Calendar 2.0//EN
METHOD:PUBLISH
X-PUBLISHED-TTL:P3D
REFRESH-INTERVAL:P3D
CALSCALE:GREGORIAN
BEGIN:VEVENT
DTSTART:20141024T150000Z
DTEND:20141024T160000Z
X-MICROSOFT-CDO-ALLDAYEVENT:FALSE
SUMMARY:2014 Manufacturers & Technology Week Tours - TRW Tour 10:00 am
DESCRIPTION:TRW Tour   max. of 15. No open-toed or high heeled shoes. Safety glasses will be provided. 5752 Industrial Park Road
X-ALT-DESC;FMTTYPE=text/html:TRW Tour &ndash\; max. of 15. No open-toed or high heeled shoes. Safety glasses will be provided. 5752 Industrial Park Road
LOCATION:
UID:e.1434.2236
SEQUENCE:3
DTSTAMP:20260419T140340Z
URL:http://business.winonachamber.com/events/details/2014-manufacturers-technology-week-tours-trw-tour-10-00-am-10-24-2014-2236
END:VEVENT

END:VCALENDAR
