BEGIN:VCALENDAR
VERSION:2.0
PRODID:-//ChamberMaster//Event Calendar 2.0//EN
METHOD:PUBLISH
X-PUBLISHED-TTL:P3D
REFRESH-INTERVAL:P3D
CALSCALE:GREGORIAN
BEGIN:VEVENT
DTSTART:20140225T220000Z
DTEND:20140226T030000Z
X-MICROSOFT-CDO-ALLDAYEVENT:FALSE
SUMMARY:2014 MN Chamber Sessions Priority Dinner
DESCRIPTION:2014 MN Chamber of Commerce\n\nSession Priorities Dinner\n\n\n\nJoin us at Session Priorities\, the premier kickoff event to the 2014 Legislature. As is tradition\, Governor Mark Dayton and the four legislative leaders will be invited to present their legislative priorities. Gain the practical know-how on how to advance your priorities. Network with business and public-policy leaders from across the state. Engage in building your bottom lines.
X-ALT-DESC;FMTTYPE=text/html:<br />\n<strong><span style="color:#003366\;"><span style="font-family:arial\,sans-serif\;"><span style="font-size:12.0pt\;">2014 MN Chamber of Commerce<br />\nSession Priorities Dinner</span></span></span></strong><br />\n<br />\n<span style="color:black\;"><span style="font-family:arial\,sans-serif\;"><span style="font-size:9.0pt\;">Join us at Session Priorities\, the premier kickoff event to the 2014 Legislature. As is tradition\, Governor Mark Dayton and the four legislative leaders will be invited to present their legislative priorities. Gain the practical know-how on how to advance your priorities. Network with business and public-policy leaders from across the state. Engage in building your bottom lines.</span></span></span><br />\n<br />\n
LOCATION:St. Paul RiverCentre 175 West Kellogg Blvd Saint Paul\, MN 55102
UID:e.1434.2122
SEQUENCE:3
DTSTAMP:20260420T025553Z
URL:http://business.winonachamber.com/events/details/2014-mn-chamber-sessions-priority-dinner-02-25-2014-2122
END:VEVENT

END:VCALENDAR
