BEGIN:VCALENDAR
VERSION:2.0
PRODID:-//ChamberMaster//Event Calendar 2.0//EN
METHOD:PUBLISH
X-PUBLISHED-TTL:P3D
REFRESH-INTERVAL:P3D
CALSCALE:GREGORIAN
BEGIN:VEVENT
DTSTART:20140314T130000Z
DTEND:20140314T133000Z
X-MICROSOFT-CDO-ALLDAYEVENT:FALSE
SUMMARY:2014 MN State Legislative Issues Update Briefing 03.14
DESCRIPTION:Light Refreshments will be served
X-ALT-DESC;FMTTYPE=text/html:Light Refreshments will be served&nbsp\;&nbsp\;&nbsp\;
LOCATION:Winona Area Chamber of Commerce Conference Room 902 East Second Street Suite 120
UID:e.1434.2159
SEQUENCE:3
DTSTAMP:20260420T010519Z
URL:http://business.winonachamber.com/events/details/2014-mn-state-legislative-issues-update-briefing-03-14-03-14-2014-2159
END:VEVENT

END:VCALENDAR
