BEGIN:VCALENDAR
VERSION:2.0
PRODID:-//ChamberMaster//Event Calendar 2.0//EN
METHOD:PUBLISH
X-PUBLISHED-TTL:P3D
REFRESH-INTERVAL:P3D
CALSCALE:GREGORIAN
BEGIN:VEVENT
DTSTART:20140313T220000Z
DTEND:20140314T000000Z
X-MICROSOFT-CDO-ALLDAYEVENT:FALSE
SUMMARY:2014 Network Nite - Watkins
DESCRIPTION:March Network Nite\n\n\n\nSponsored by Watkins Incorporated\n\n\n\nBring your business cards and come network with your fellow Chamber members!
X-ALT-DESC;FMTTYPE=text/html:<span style="font-size:14px\;">March Network Nite<br />\n<br />\nSponsored by Watkins Incorporated<br />\n<br />\nBring your business cards and come network with your fellow Chamber members!</span>
LOCATION:Watkins Incorporated 150 Liberty Street
UID:e.1434.2133
SEQUENCE:3
DTSTAMP:20260420T025611Z
URL:http://business.winonachamber.com/events/details/2014-network-nite-watkins-03-13-2014-2133
END:VEVENT

END:VCALENDAR
