BEGIN:VCALENDAR
VERSION:2.0
PRODID:-//ChamberMaster//Event Calendar 2.0//EN
METHOD:PUBLISH
X-PUBLISHED-TTL:P3D
REFRESH-INTERVAL:P3D
CALSCALE:GREGORIAN
BEGIN:VEVENT
DTSTART:20140515T220000Z
DTEND:20140516T000000Z
X-MICROSOFT-CDO-ALLDAYEVENT:FALSE
SUMMARY:2014 Network Nite - Winona State University
DESCRIPTION:May Network Nite\n\n\n\nSponsored by Winona State University\n\n\n\nBring your business cards and come network with your fellow Chamber members!
X-ALT-DESC;FMTTYPE=text/html:<span style="font-size:14px\;">May Network Nite<br />\n<br />\nSponsored by Winona State University<br />\n<br />\nBring your business cards and come network with your fellow Chamber members!</span>
LOCATION:Winona State University
UID:e.1434.2135
SEQUENCE:3
DTSTAMP:20260419T220314Z
URL:http://business.winonachamber.com/events/details/2014-network-nite-winona-state-university-05-15-2014-2135
END:VEVENT

END:VCALENDAR
