BEGIN:VCALENDAR
VERSION:2.0
PRODID:-//ChamberMaster//Event Calendar 2.0//EN
METHOD:PUBLISH
X-PUBLISHED-TTL:P3D
REFRESH-INTERVAL:P3D
CALSCALE:GREGORIAN
BEGIN:VEVENT
DTSTART;VALUE=DATE:20140225
DTEND;VALUE=DATE:20140226
TRANSP:TRANSPARENT
X-MICROSOFT-CDO-ALLDAYEVENT:TRUE
SUMMARY:2014 YP Professional Development - What is happening at the Chamber - Get Involved
DESCRIPTION:Join the Ambassadors\, Economic Development\, Transportation\, Main Street\, and Public Policy 2014 Committee Chairs in a panel format to explain who they are\, what they do\, how others can get involved\, and what is next for you in your Chamber experience!
X-ALT-DESC;FMTTYPE=text/html:<span style="color:#a20000\;"><span style="font-family:lucida sans unicode\,sans-serif\;"><span style="font-size:10.0pt\;">Join&nbsp\;the Ambassadors\, Economic Development\, Transportation\, Main Street\, and Public Policy 2014 Committee Chairs in a panel format to explain who they are\, what they do\, how others can get involved\, and what is next for you in your Chamber experience! </span></span></span>
LOCATION:Winona Area Chamber of Commerce 902 East 2nd Street\, Suite 120
UID:e.1434.2152
SEQUENCE:3
DTSTAMP:20260420T030026Z
URL:http://business.winonachamber.com/events/details/2014-yp-professional-development-what-is-happening-at-the-chamber-get-involved-02-25-2014-2152
END:VEVENT

END:VCALENDAR
