BEGIN:VCALENDAR
VERSION:2.0
PRODID:-//ChamberMaster//Event Calendar 2.0//EN
METHOD:PUBLISH
X-PUBLISHED-TTL:P3D
REFRESH-INTERVAL:P3D
CALSCALE:GREGORIAN
BEGIN:VEVENT
DTSTART:20140909T123000Z
DTEND:20140909T143000Z
X-MICROSOFT-CDO-ALLDAYEVENT:FALSE
SUMMARY:Access to Capital Workshop
DESCRIPTION:Access to Capital Workshop\n\n\n\nIf you have a small business and are interested in hearing about various\n\noptions to access capital\, please join us for one of our two-hour sessions.\n\n\n\nYou will hear speakers from commercial lending institutions\, Winona County EDA and Department of Employment and Economic Development (DEED) discuss types of capital available to emerging businesses along with the benefits and risks entailed. Please join us for this informative session where you will have a chance to ask questions and network with other local small business owners.
X-ALT-DESC;FMTTYPE=text/html:<span style="font-size:18px\;"><strong>Access to Capital Workshop</strong></span><br />\n<br />\n<span style="font-size:14px\;">If you have a small business and are interested in hearing about various<br />\noptions to access capital\, please join us for one of our two-hour sessions.</span><br />\n<br />\nYou will hear speakers from commercial lending institutions\, Winona County EDA and Department of Employment and Economic Development (DEED) discuss types of capital available to emerging businesses along with the benefits and risks entailed. Please join us for this informative session where you will have a chance to ask questions and network with other local small business owners.
LOCATION:Winona Area Chamber of Commerce 908 East Second Street\, Suite 120
UID:e.1434.2202
SEQUENCE:3
DTSTAMP:20260419T153259Z
URL:http://business.winonachamber.com/events/details/access-to-capital-workshop-09-09-2014-2202
END:VEVENT

END:VCALENDAR
