BEGIN:VCALENDAR
VERSION:2.0
PRODID:-//ChamberMaster//Event Calendar 2.0//EN
METHOD:PUBLISH
X-PUBLISHED-TTL:P3D
REFRESH-INTERVAL:P3D
CALSCALE:GREGORIAN
BEGIN:VEVENT
DTSTART:20101213T230000Z
DTEND:20101214T010000Z
X-MICROSOFT-CDO-ALLDAYEVENT:FALSE
SUMMARY:Ambassador Christmas Party 2010
DESCRIPTION:
X-ALT-DESC;FMTTYPE=text/html:
LOCATION:Winona Area Chamber of Commerce\, Inc.
UID:e.1434.545
SEQUENCE:3
DTSTAMP:20260424T225148Z
URL:http://business.winonachamber.com/events/details/ambassador-christmas-party-2010-12-13-2010-545
END:VEVENT

END:VCALENDAR
