BEGIN:VCALENDAR
VERSION:2.0
PRODID:-//ChamberMaster//Event Calendar 2.0//EN
METHOD:PUBLISH
X-PUBLISHED-TTL:P3D
REFRESH-INTERVAL:P3D
CALSCALE:GREGORIAN
BEGIN:VEVENT
DTSTART:20121008T220000Z
DTEND:20121008T230000Z
X-MICROSOFT-CDO-ALLDAYEVENT:FALSE
SUMMARY:Ambassador Fall Social
DESCRIPTION:Ambassador Fall Social
X-ALT-DESC;FMTTYPE=text/html:Ambassador Fall Social&nbsp\;&nbsp\;&nbsp\; 
LOCATION:Garvin Heights Vineyards
UID:e.1434.917
SEQUENCE:3
DTSTAMP:20260423T044239Z
URL:http://business.winonachamber.com/events/details/ambassador-fall-social-10-08-2012-917
END:VEVENT

END:VCALENDAR
