BEGIN:VCALENDAR
VERSION:2.0
PRODID:-//ChamberMaster//Event Calendar 2.0//EN
METHOD:PUBLISH
X-PUBLISHED-TTL:P3D
REFRESH-INTERVAL:P3D
CALSCALE:GREGORIAN
BEGIN:VEVENT
DTSTART:20100603T163000Z
DTEND:20100603T233000Z
X-MICROSOFT-CDO-ALLDAYEVENT:FALSE
SUMMARY:Ambassador Golf Outing 2010
DESCRIPTION:
X-ALT-DESC;FMTTYPE=text/html:
LOCATION:Signatures
UID:e.1434.501
SEQUENCE:3
DTSTAMP:20260425T101738Z
URL:http://business.winonachamber.com/events/details/ambassador-golf-outing-2010-06-03-2010-501
END:VEVENT

END:VCALENDAR
