BEGIN:VCALENDAR
VERSION:2.0
PRODID:-//ChamberMaster//Event Calendar 2.0//EN
METHOD:PUBLISH
X-PUBLISHED-TTL:P3D
REFRESH-INTERVAL:P3D
CALSCALE:GREGORIAN
BEGIN:VEVENT
DTSTART:20090604T160000Z
DTEND:20090604T233000Z
X-MICROSOFT-CDO-ALLDAYEVENT:FALSE
SUMMARY:Ambassador Golf Outing-Hole Sponsor 2009
DESCRIPTION:
X-ALT-DESC;FMTTYPE=text/html:
LOCATION:Cedar Valley Golf
UID:e.1434.459
SEQUENCE:3
DTSTAMP:20260426T033724Z
URL:http://business.winonachamber.com/events/details/ambassador-golf-outing-hole-sponsor-2009-06-04-2009-459
END:VEVENT

END:VCALENDAR
