BEGIN:VCALENDAR
VERSION:2.0
PRODID:-//ChamberMaster//Event Calendar 2.0//EN
METHOD:PUBLISH
X-PUBLISHED-TTL:P3D
REFRESH-INTERVAL:P3D
CALSCALE:GREGORIAN
BEGIN:VEVENT
DTSTART:20121211T223000Z
DTEND:20121212T013000Z
X-MICROSOFT-CDO-ALLDAYEVENT:FALSE
SUMMARY:Ambassador Holiday Social 2012
DESCRIPTION:Ambassador Holiday Social!\n\n\n\n*Gift Exchange (Value of $10 or less)\n\n*FUN Surprise recognition Awards for Volunteers from Chamber Staff!!\n\n*Points Total - find out who will be cooking who dinner!?\n\n\n\n Appetizers and Socialize with your friends :)
X-ALT-DESC;FMTTYPE=text/html:<span style="font-size:14px\;"><span style="font-family: tahoma\;"><span style="color: rgb(255\, 0\, 0)\;">Ambassador Holiday Social!<br />\n<br />\n</span><span style="color:#008000\;">*Gift Exchange (Value of $10 or less)<br />\n*FUN Surprise recognition Awards for Volunteers from Chamber Staff!!<br />\n*Points Total - find out who will be cooking who dinner!?</span><br />\n<br />\n<span style="color: rgb(255\, 0\, 0)\;"> Appetizers and Socialize with your friends :)</span></span></span><br />\n<br />\n
LOCATION:Timbers 270 West 3rd Street
UID:e.1434.1192
SEQUENCE:3
DTSTAMP:20260423T012326Z
URL:http://business.winonachamber.com/events/details/ambassador-holiday-social-2012-12-11-2012-1192
END:VEVENT

END:VCALENDAR
