BEGIN:VCALENDAR
VERSION:2.0
PRODID:-//ChamberMaster//Event Calendar 2.0//EN
METHOD:PUBLISH
X-PUBLISHED-TTL:P3D
REFRESH-INTERVAL:P3D
CALSCALE:GREGORIAN
BEGIN:VEVENT
DTSTART:20100129T230000Z
DTEND:20100130T030000Z
X-MICROSOFT-CDO-ALLDAYEVENT:FALSE
SUMMARY:Annual Meeting & Banquet 2010
DESCRIPTION:Individuals $30.00 Coroprate Table for 8 $240.00
X-ALT-DESC;FMTTYPE=text/html:Individuals $30.00 Coroprate Table for 8 $240.00
LOCATION:Visions Event Center
UID:e.1434.482
SEQUENCE:3
DTSTAMP:20260425T170125Z
URL:http://business.winonachamber.com/events/details/annual-meeting-banquet-2010-01-29-2010-482
END:VEVENT

END:VCALENDAR
