BEGIN:VCALENDAR
VERSION:2.0
PRODID:-//ChamberMaster//Event Calendar 2.0//EN
METHOD:PUBLISH
X-PUBLISHED-TTL:P3D
REFRESH-INTERVAL:P3D
CALSCALE:GREGORIAN
BEGIN:VEVENT
DTSTART:20110121T230000Z
DTEND:20110122T030000Z
X-MICROSOFT-CDO-ALLDAYEVENT:FALSE
SUMMARY:Annual Meeting & Banquet 2011
DESCRIPTION:Individuals $30.00 Coroprate Table for 8 $275.00
X-ALT-DESC;FMTTYPE=text/html:Individuals $30.00 Coroprate Table for 8 $275.00
LOCATION:Signatures
UID:e.1434.550
SEQUENCE:3
DTSTAMP:20260424T211000Z
URL:http://business.winonachamber.com/events/details/annual-meeting-banquet-2011-01-21-2011-550
END:VEVENT

END:VCALENDAR
