BEGIN:VCALENDAR
VERSION:2.0
PRODID:-//ChamberMaster//Event Calendar 2.0//EN
METHOD:PUBLISH
X-PUBLISHED-TTL:P3D
REFRESH-INTERVAL:P3D
CALSCALE:GREGORIAN
BEGIN:VEVENT
DTSTART:20140827T140000Z
DTEND:20140827T200000Z
X-MICROSOFT-CDO-ALLDAYEVENT:FALSE
SUMMARY:Bake Sale Fundraiser
DESCRIPTION:Sterling House Winona assisted living will be hosting a Bake Sale fundraiser\; with all proceeds being donated to our local Walk to End Alzheimer's event in late September. Just stop by Sterling House Winona to satisfy your sweet tooth with an assortment of homemade goods while supporting efforts to end Alzheimer's disease.
X-ALT-DESC;FMTTYPE=text/html:Sterling House Winona assisted living will be hosting a Bake Sale fundraiser\; with all proceeds being donated to our local Walk to End Alzheimer&#39\;s event in late September. Just stop by Sterling House Winona to satisfy your sweet tooth with an assortment of homemade goods while supporting efforts to end Alzheimer&#39\;s disease.
LOCATION:Sterling House Winona 835 East Belleview Street Winona\, MN 55987
UID:e.1434.2205
SEQUENCE:3
DTSTAMP:20260419T171850Z
URL:http://business.winonachamber.com/events/details/bake-sale-fundraiser-08-27-2014-2205
END:VEVENT

END:VCALENDAR
