BEGIN:VCALENDAR
VERSION:2.0
PRODID:-//ChamberMaster//Event Calendar 2.0//EN
METHOD:PUBLISH
X-PUBLISHED-TTL:P3D
REFRESH-INTERVAL:P3D
CALSCALE:GREGORIAN
BEGIN:VEVENT
DTSTART;VALUE=DATE:20101121
DTEND;VALUE=DATE:20101125
TRANSP:TRANSPARENT
X-MICROSOFT-CDO-ALLDAYEVENT:TRUE
SUMMARY:Baseball: The Tenth Inning
DESCRIPTION:The Tenth Inning is a two-part\, four-hour documentary film directed by Ken Burns and Lynn Novick. Anew chapter in Burns’ landmark 1994 series\, BASEBALL\, THE TENTH INNING tells the tumultuous story ofthe national pastime from the 1990s to the present day. Introducing an unforgettable array of players\, teams and fans\, the film showcases the era’s extraordinary accomplishments and heroics – as wellas its devastating losses and disappointments. Combining extraordinary highlights\, stunning still photographs\, popular music of the period\, and insightful commentary by players\, managers\, experts andfans\, Burns and Novick’s THE TENTH INNING interweaves the story of the national pastime with the story of America. The exceptional series premieres on KSMQ Sunday\, November 21 at 2:00pm and on November 23 and 24 at 7:00pm.
X-ALT-DESC;FMTTYPE=text/html:The Tenth Inning is a two-part\, four-hour documentary film directed by Ken Burns and Lynn Novick. Anew chapter in Burns’ landmark 1994 series\, BASEBALL\, THE TENTH INNING tells the tumultuous story ofthe national pastime from the 1990s to the present day. Introducing an unforgettable array of players\, teams and fans\, the film showcases the era’s extraordinary accomplishments and heroics – as wellas its devastating losses and disappointments. Combining extraordinary highlights\, stunning still photographs\, popular music of the period\, and insightful commentary by players\, managers\, experts andfans\, Burns and Novick’s THE TENTH INNING interweaves the story of the national pastime with the story of America. The exceptional series premieres on KSMQ Sunday\, November 21 at 2:00pm and on November 23 and 24 at 7:00pm.
LOCATION:
UID:e.1434.542
SEQUENCE:3
DTSTAMP:20260425T002430Z
URL:http://business.winonachamber.com/events/details/baseball-the-tenth-inning-11-21-2010-542
END:VEVENT

END:VCALENDAR
