BEGIN:VCALENDAR
VERSION:2.0
PRODID:-//ChamberMaster//Event Calendar 2.0//EN
METHOD:PUBLISH
X-PUBLISHED-TTL:P3D
REFRESH-INTERVAL:P3D
CALSCALE:GREGORIAN
BEGIN:VEVENT
DTSTART:20120515T161500Z
DTEND:20120515T180000Z
X-MICROSOFT-CDO-ALLDAYEVENT:FALSE
SUMMARY:Business Celebration Luncheon - 2012
DESCRIPTION:
X-ALT-DESC;FMTTYPE=text/html:
LOCATION:Riverport Inn
UID:e.1434.623
SEQUENCE:3
DTSTAMP:20260423T131133Z
URL:http://business.winonachamber.com/events/details/business-celebration-luncheon-2012-05-15-2012-623
END:VEVENT

END:VCALENDAR
