BEGIN:VCALENDAR
VERSION:2.0
PRODID:-//ChamberMaster//Event Calendar 2.0//EN
METHOD:PUBLISH
X-PUBLISHED-TTL:P3D
REFRESH-INTERVAL:P3D
CALSCALE:GREGORIAN
BEGIN:VEVENT
DTSTART:20140322T150000Z
DTEND:20140322T190000Z
X-MICROSOFT-CDO-ALLDAYEVENT:FALSE
SUMMARY:Cabin Fever
DESCRIPTION:Winona Main Street\n\nCabin Fever\n\n\n\nWinona Main Street and Downtown Businesses invite you to get out of the house and come downtown for a day of relieving your Cabin Fever symptoms!  27 Businesses are ready to welcome you with great customer service and friendly atmospheres.  Come check it out!
X-ALT-DESC;FMTTYPE=text/html:Winona Main Street<br />\nCabin Fever<br />\n<br />\nWinona Main Street and Downtown Businesses invite you to get out of the house and come downtown for a day of relieving your Cabin Fever symptoms!&nbsp\; 27 Businesses are ready to welcome you with great customer service and friendly atmospheres.&nbsp\; Come check it out!
LOCATION:Historic Downtown Winona-Participating Businesses Acoustic Cafe baby bean Beno's Deli Bodywork Health Spa and Salon Bub's Brewing Co. Burke's Furniture Mart Cha Chi's Mexican Grill Chapter 2 Books Engrav's Decorating Hardees Heart's Desire Holtan's Home and Community Options Home Gallery Inside the Vault La Boutique Mid West Music Fest Nola's Flowers Pet Medical Center Pipe Dream Toys Sammy's Pizza Say Cheese Design Sole Sport The Book Shelf Winona County History Center Winona Feed\, Seed\, and More Yarnology
UID:e.1434.2141
SEQUENCE:3
DTSTAMP:20260420T011017Z
URL:http://business.winonachamber.com/events/details/cabin-fever-03-22-2014-2141
END:VEVENT

END:VCALENDAR
