BEGIN:VCALENDAR
VERSION:2.0
PRODID:-//ChamberMaster//Event Calendar 2.0//EN
METHOD:PUBLISH
X-PUBLISHED-TTL:P3D
REFRESH-INTERVAL:P3D
CALSCALE:GREGORIAN
BEGIN:VEVENT
DTSTART:20140220T230000Z
DTEND:20140221T010000Z
X-MICROSOFT-CDO-ALLDAYEVENT:FALSE
SUMMARY:CANCELLED - Network Nite - Black Horse Bar & Grill
DESCRIPTION:CANCELLED due to weather\n\nwill be rescheduled later in the year\n\n\n\nFebruary Network Nite\n\n\n\nSponsored by Black Horse Bar & Grill\n\n\n\nBring your business cards and come network with your fellow Chamber members!
X-ALT-DESC;FMTTYPE=text/html:<span style="font-size:14px\;"><span style="color:#ff0000\;"><strong>CANCELLED due to weather<br />\nwill be rescheduled later in the year</strong></span><br />\n<br />\nFebruary Network Nite<br />\n<br />\nSponsored by Black Horse Bar &amp\; Grill<br />\n<br />\nBring your business cards and come network with your fellow Chamber members!</span>
LOCATION:Black Horse Bar & Grill 34648 Old Homer Road
UID:e.1434.2132
SEQUENCE:3
DTSTAMP:20260420T025904Z
URL:http://business.winonachamber.com/events/details/cancelled-network-nite-black-horse-bar-grill-02-20-2014-2132
END:VEVENT

END:VCALENDAR
