BEGIN:VCALENDAR
VERSION:2.0
PRODID:-//ChamberMaster//Event Calendar 2.0//EN
METHOD:PUBLISH
X-PUBLISHED-TTL:P3D
REFRESH-INTERVAL:P3D
CALSCALE:GREGORIAN
BEGIN:VEVENT
DTSTART:20120417T223000Z
DTEND:20120418T003000Z
X-MICROSOFT-CDO-ALLDAYEVENT:FALSE
SUMMARY:Candidate School - How to Run for Local Elected Office
DESCRIPTION:How to run for Local Elected Office\n\nThe Winona Area Chamber of Commerce will host a Candidate School on Tuesday\, April 17 from 5:30 - 7:30 p.m. at the Winona Chamber Conference. \n\nThis workshop is open to the public\, but \n\nregistration is required. You will learn from experienced public service veterans the basics of running for a local elected position. If you are interested in learning more about how local campaigns really work\, whether it is from a candidate perspective or as a volunteer supporter of a local candidate\, register today!\n\n\n\n\n\nCost per per person is $10.00 which will cover all materials and refreshments. \n\nFor more information\, or to register for the April 17 Candidate School\, contact the Winona Area Chamber of Commerce at (507) 452-2272\, or by email to info@winonachamber.com
X-ALT-DESC;FMTTYPE=text/html:<strong><span style="font-family:segoe print\;"><span style="font-size:14.0pt\;">How to run for Local Elected Office</span></span></strong><br />\n<span style="font-family:calibri\,sans-serif\;">The Winona Area Chamber of Commerce will host a Candidate School on Tuesday\, April 17 from 5:30 - 7:30 p.m. at the Winona Chamber Conference. </span><br />\n<span style="font-family:calibri\,sans-serif\;">This workshop is open to the public\, but </span><br />\n<strong><span style="font-family:calibri\,sans-serif\;">registration is required. </span></strong><span style="font-family:calibri\,sans-serif\;">You will learn from experienced public service veterans the basics of running for a local elected position. If you are interested in learning more about how local campaigns really work\, whether it is from a candidate perspective or as a volunteer supporter of a local candidate\, register today!</span><br />\n<br />\n<br />\n<span style="font-family:calibri\,sans-serif\;">Cost per per person is $10.00 which will cover all materials and refreshments. </span><br />\n<span style="font-family:calibri\,sans-serif\;"><span style="font-size:12.0pt\;">For more information\, or to register for the April 17 Candidate School\, contact the Winona Area Chamber of Commerce at (507) 452-2272\, or by email to <a href="mailto:info@winonachamber.com" shape="rect" target="_blank">info@winonachamber.com</a></span></span>
LOCATION:Winona Area Chamber of Commerce 902 East Second Street Suite 120 Winona\, MN 55987
UID:e.1434.626
SEQUENCE:3
DTSTAMP:20260423T150025Z
URL:http://business.winonachamber.com/events/details/candidate-school-how-to-run-for-local-elected-office-04-17-2012-626
END:VEVENT

END:VCALENDAR
