BEGIN:VCALENDAR
VERSION:2.0
PRODID:-//ChamberMaster//Event Calendar 2.0//EN
METHOD:PUBLISH
X-PUBLISHED-TTL:P3D
REFRESH-INTERVAL:P3D
CALSCALE:GREGORIAN
BEGIN:VEVENT
DTSTART:20120121T230000Z
DTEND:20120122T053000Z
X-MICROSOFT-CDO-ALLDAYEVENT:FALSE
SUMMARY:Chamber Centennial Gala 2012
DESCRIPTION:Individuals $45.00 Couples - $85 Coroprate Table for 8 - $500 Corporate table of 10 - $600
X-ALT-DESC;FMTTYPE=text/html:Individuals $45.00 Couples - $85 Coroprate Table for 8 - $500 Corporate table of 10 - $600 
LOCATION:Riverport Inn and Express Suites
UID:e.1434.605
SEQUENCE:3
DTSTAMP:20260423T192808Z
URL:http://business.winonachamber.com/events/details/chamber-centennial-gala-2012-01-21-2012-605
END:VEVENT

END:VCALENDAR
