BEGIN:VCALENDAR
VERSION:2.0
PRODID:-//ChamberMaster//Event Calendar 2.0//EN
METHOD:PUBLISH
X-PUBLISHED-TTL:P3D
REFRESH-INTERVAL:P3D
CALSCALE:GREGORIAN
BEGIN:VEVENT
DTSTART:20120607T170000Z
DTEND:20120608T010000Z
X-MICROSOFT-CDO-ALLDAYEVENT:FALSE
SUMMARY:Chamber Golf Classic - 2012
DESCRIPTION:When: June 7th\, 2012. Registration & Lunch at Noon\, with a\n\nshot-gun start at 1:00 p.m.\n\nDinner: 6:30 p.m. (Dinner Only   $25)\n\nWhere: Cedar Valley\, 25019 County Road 9\n\nWho: Anyone who wants to participate (No handicap or golf experience needed)\n\nHow: A four-person scramble tournament\n\nCost: $99.00 per person (18 holes of golf\, cart rental\, lunch\, dinner\, and prizes)\n\nAttire: Golf attire
X-ALT-DESC;FMTTYPE=text/html:When: June 7th\, 2012. Registration &amp\; Lunch at Noon\, with a<br />\nshot-gun start at 1:00 p.m.<br />\nDinner: 6:30 p.m. (Dinner Only &ndash\; $25)<br />\nWhere: Cedar Valley\, 25019 County Road 9<br />\nWho: Anyone who wants to participate (No handicap or golf experience needed)<br />\nHow: A four-person scramble tournament<br />\nCost: $99.00 per person (18 holes of golf\, cart rental\, lunch\, dinner\, and prizes)<br />\nAttire: Golf attire
LOCATION:When: June 7th\, 2012. Registration & Lunch at Noon\, with a shot-gun start at 1:00 p.m. Dinner: 6:30 p.m. (Dinner Only $25) Where: Cedar Valley\, 25019 County Road 9 Who: Anyone who wants to participate (No handicap or golf experience needed) How: A four-person scramble tournament Cost: $99.00 per person (18 holes of golf\, cart rental\, lunch\, dinner\, and prizes) Attire: Golf attire
UID:e.1434.628
SEQUENCE:3
DTSTAMP:20260423T111826Z
URL:http://business.winonachamber.com/events/details/chamber-golf-classic-2012-06-07-2012-628
END:VEVENT

END:VCALENDAR
