BEGIN:VCALENDAR
VERSION:2.0
PRODID:-//ChamberMaster//Event Calendar 2.0//EN
METHOD:PUBLISH
X-PUBLISHED-TTL:P3D
REFRESH-INTERVAL:P3D
CALSCALE:GREGORIAN
BEGIN:VEVENT
DTSTART:20101209T170000Z
DTEND:20101209T190000Z
X-MICROSOFT-CDO-ALLDAYEVENT:FALSE
SUMMARY:City Manager Luncheon
DESCRIPTION:The Winona Area Chamber of Commerce Government Advocacy Committee will be hosting a luncheon on Tuesday\, February 28\, for members to speak with state elescted officals about business concerns.
X-ALT-DESC;FMTTYPE=text/html:The Winona Area Chamber of Commerce Government Advocacy Committee will be hosting a luncheon on Tuesday\, February 28\, for members to speak with state elescted officals about business concerns. 
LOCATION:Jefferson Pub & Grill
UID:e.1434.548
SEQUENCE:3
DTSTAMP:20260424T225101Z
URL:http://business.winonachamber.com/events/details/city-manager-luncheon-12-09-2010-548
END:VEVENT

END:VCALENDAR
