BEGIN:VCALENDAR
VERSION:2.0
PRODID:-//ChamberMaster//Event Calendar 2.0//EN
METHOD:PUBLISH
X-PUBLISHED-TTL:P3D
REFRESH-INTERVAL:P3D
CALSCALE:GREGORIAN
BEGIN:VEVENT
DTSTART:20110405T223000Z
DTEND:20110405T233000Z
X-MICROSOFT-CDO-ALLDAYEVENT:FALSE
SUMMARY:Company is Coming to Winona
DESCRIPTION:
X-ALT-DESC;FMTTYPE=text/html:
LOCATION:Winona Area Chamber of Commerce
UID:e.1434.575
SEQUENCE:3
DTSTAMP:20260424T120151Z
URL:http://business.winonachamber.com/events/details/company-is-coming-to-winona-04-05-2011-575
END:VEVENT

END:VCALENDAR
