BEGIN:VCALENDAR
VERSION:2.0
PRODID:-//ChamberMaster//Event Calendar 2.0//EN
METHOD:PUBLISH
X-PUBLISHED-TTL:P3D
REFRESH-INTERVAL:P3D
CALSCALE:GREGORIAN
BEGIN:VEVENT
DTSTART:20120807T123000Z
DTEND:20120807T143000Z
X-MICROSOFT-CDO-ALLDAYEVENT:FALSE
SUMMARY:Constant Contact - Small Business Training
DESCRIPTION:The Power of Email Marketing\n\nEngagement Marketing - How Small Business \n\nWins in a Socially Connected World
X-ALT-DESC;FMTTYPE=text/html:<span style="font-size:14px\;"><span><span style="font-family: bernard mt condensed\;">The Power of Email Marketing</span></span><br />\n<span><span style="font-family: bernard mt condensed\;">Engagement Marketing - How Small Business </span></span><br />\n<span><span style="font-family: bernard mt condensed\;">Wins in a Socially Connected World</span></span></span><br />\n&nbsp\;
LOCATION:The Winona Area Chamber of Commerce 902 E. 2nd Street\, Suite 120 Tuesday\, August 7th\, 2012 7:30 a.m. to 9:30 a.m. Cost: $15.00/per person Refreshments and Materials provided
UID:e.1434.645
SEQUENCE:3
DTSTAMP:20260423T081900Z
URL:http://business.winonachamber.com/events/details/constant-contact-small-business-training-08-07-2012-645
END:VEVENT

END:VCALENDAR
