BEGIN:VCALENDAR
VERSION:2.0
PRODID:-//ChamberMaster//Event Calendar 2.0//EN
METHOD:PUBLISH
X-PUBLISHED-TTL:P3D
REFRESH-INTERVAL:P3D
CALSCALE:GREGORIAN
BEGIN:VEVENT
DTSTART:20141105T133000Z
DTEND:20141105T173000Z
X-MICROSOFT-CDO-ALLDAYEVENT:FALSE
SUMMARY:Customer Service Seminar - Constant Training
DESCRIPTION:Customer Service Eagles\n\nEnjoyed by thousands of participants in retail\, manufacturing\, administrative\, and service roles\, this learning experience offers the skills and knowledge required to provide excellent customer service.   Appropriate for all levels within in an organization\, participants take away real information they can begin using immediately on the job. All participants will receive a copy of Joe's book Customer Service Eagles.\n\nTake the best of Pike Place Fish Market \, Disney \, Nordstrom \, Southwest Airlines \, FED EX \, L L BEAN \, Stew Leonards \, Krispy Kreme \, Mitchells  and other WORLD CLASS customer service organizations\, add 20 years of personal experience\, sprinkle in over 150 books\, articles and research studies\, and this is the result! Customer service is THE KEY to the future success of your organization. In our half-day workshop\, participants will learn:\n\n     The TOP TEN service mistakes customer hate\n\n     The TOP TEN service details that customers rave about\n\n     The MAGIC WORDS they love as well as those they despise\n\n     The secrets of WORLD CLASS COMPANIES\n\n      SEVEN CRITICAL ELEMENTS to achieving excellence\n\n      Handling problems and complaints how to be a FANTASTIC FIXER\n\n     TEN KEYS to effective communication\n\n      How to identify\, meet and then EXCEED customer expectations\n\n      Four keys from the WORLD FAMOUS "FISH"VIDEO
X-ALT-DESC;FMTTYPE=text/html:Customer Service Eagles<br />\nEnjoyed by thousands of participants in retail\, manufacturing\, administrative\, and service roles\, this learning experience offers the skills and knowledge required to provide excellent customer service.&nbsp\;&nbsp\; Appropriate for all levels within in an organization\, participants take away real information they can begin using immediately on the job. All participants will receive a copy of Joe&#39\;s book Customer Service Eagles.<br />\nTake the best of Pike Place Fish Market&reg\;\, Disney&reg\;\, Nordstrom&reg\;\, Southwest Airlines&reg\;\, FED EX&reg\;\, L L BEAN&reg\;\, Stew Leonards&reg\;\, Krispy Kreme&reg\;\, Mitchells&reg\; and other WORLD CLASS customer service organizations\, add 20 years of personal experience\, sprinkle in over 150 books\, articles and research studies\, and this is the result! Customer service is THE KEY to the future success of your organization. In our half-day workshop\, participants will learn:<br />\n&bull\;&nbsp\;&nbsp\; &nbsp\;The TOP TEN service mistakes customer hate<br />\n&bull\;&nbsp\;&nbsp\; &nbsp\;The TOP TEN service details that customers rave about<br />\n&bull\;&nbsp\;&nbsp\; &nbsp\;The MAGIC WORDS they love as well as those they despise<br />\n&bull\;&nbsp\;&nbsp\; &nbsp\;The secrets of WORLD CLASS COMPANIES<br />\n&bull\;&nbsp\;&nbsp\; &nbsp\; SEVEN CRITICAL ELEMENTS to achieving excellence<br />\n&bull\;&nbsp\;&nbsp\; &nbsp\; Handling problems and complaints&ndash\;how to be a FANTASTIC FIXER<br />\n&bull\;&nbsp\;&nbsp\; &nbsp\;TEN KEYS to effective communication<br />\n&bull\;&nbsp\;&nbsp\; &nbsp\; How to identify\, meet and then EXCEED customer expectations<br />\n&bull\;&nbsp\;&nbsp\; &nbsp\; Four keys from the WORLD FAMOUS &ldquo\;FISH&rdquo\;VIDEO<br />\n&nbsp\;<br />\n&nbsp\;
LOCATION:Winona Area Chamber of Commerce Training Room 902 East Second Street Suite 120
UID:e.1434.2230
SEQUENCE:3
DTSTAMP:20260419T121305Z
URL:http://business.winonachamber.com/events/details/customer-service-seminar-constant-training-11-05-2014-2230
END:VEVENT

END:VCALENDAR
