BEGIN:VCALENDAR
VERSION:2.0
PRODID:-//ChamberMaster//Event Calendar 2.0//EN
METHOD:PUBLISH
X-PUBLISHED-TTL:P3D
REFRESH-INTERVAL:P3D
CALSCALE:GREGORIAN
BEGIN:VEVENT
DTSTART:20091022T173000Z
DTEND:20091022T210000Z
X-MICROSOFT-CDO-ALLDAYEVENT:FALSE
SUMMARY:Customer Service Workshop - Afternoon Session
DESCRIPTION:Five or more registrants from the same business will be billed at $79.00 each for members\, not available for non-members
X-ALT-DESC;FMTTYPE=text/html:Five or more registrants from the same business will be billed at $79.00 each for members\, not available for non-members 
LOCATION:Riverport Inn
UID:e.1434.475
SEQUENCE:3
DTSTAMP:20260425T213823Z
URL:http://business.winonachamber.com/events/details/customer-service-workshop-afternoon-session-10-22-2009-475
END:VEVENT

END:VCALENDAR
