BEGIN:VCALENDAR
VERSION:2.0
PRODID:-//ChamberMaster//Event Calendar 2.0//EN
METHOD:PUBLISH
X-PUBLISHED-TTL:P3D
REFRESH-INTERVAL:P3D
CALSCALE:GREGORIAN
BEGIN:VEVENT
DTSTART:20110211T140000Z
DTEND:20110211T060000Z
X-MICROSOFT-CDO-ALLDAYEVENT:FALSE
SUMMARY:David Garrett
DESCRIPTION:David Garret brings listeners along on a roller coaster ride of genres. With new interpretations ofhis favorite rock anthems by Nirvana\, Metallica\, Paul McCartney and Aerosmith\, to name a few\, David’s prodigious violin playing shines through with precision and power. See him live with your pledge of membership support to KSMQ at the Pantages Theatre in Minneapolis on February 11 at 8:00pm. Call 866-859-7908 to make your pledge of membership support or join online\, anytime at www.ksmq.org.
X-ALT-DESC;FMTTYPE=text/html:David Garret brings listeners along on a roller coaster ride of genres. With new interpretations ofhis favorite rock anthems by Nirvana\, Metallica\, Paul McCartney and Aerosmith\, to name a few\, David’s prodigious violin playing shines through with precision and power. See him live with your pledge of membership support to KSMQ at the Pantages Theatre in Minneapolis on February 11 at 8:00pm. Call 866-859-7908 to make your pledge of membership support or join online\, anytime at www.ksmq.org. \n
LOCATION:Pantages Theatre
UID:e.1434.549
SEQUENCE:3
DTSTAMP:20260424T153957Z
URL:http://business.winonachamber.com/events/details/david-garrett-02-11-2011-549
END:VEVENT

END:VCALENDAR
