BEGIN:VCALENDAR
VERSION:2.0
PRODID:-//ChamberMaster//Event Calendar 2.0//EN
METHOD:PUBLISH
X-PUBLISHED-TTL:P3D
REFRESH-INTERVAL:P3D
CALSCALE:GREGORIAN
BEGIN:VEVENT
DTSTART:20141105T190000Z
DTEND:20141105T223000Z
X-MICROSOFT-CDO-ALLDAYEVENT:FALSE
SUMMARY:Dealing with Difficult People Seminar - Constant Training
DESCRIPTION:Dealing With Difficult People Half-Day Workshop\n\nWednesday\, November 5\n\n1:00   4:30 pm\n\n\n\nDo you sometimes feel people take advantage of you? Do you pay the price for being "too nice"? Do you have a few people that you deal with regularly that just drive you crazy? Would you like to get better results when you deal with them and with everybody? Would you like to be more effective whenever conflict arises? This workshop will help you be more effective in all situations!\n\n\n\nWe will cover:\n\n     How to identify the different personality types you are faced with\n\n     How to deal with people more effectively under all conditions\n\n     Techniques to help you COMMUNICATE MORE EFFECTIVELY\n\n     A six-step process for keeping your S.A.N.I.T.Y.\n\n     A PERSONAL ACTION PLAN for your future success\n\n     How to get better results when you have CONFLICT in your life\n\n     What conflict is and how it can benefit us\n\n     Successful methods for resolving conflict quicker and better\n\n"Swallowing angry words before you say them is better\n\nthan having to eat them afterwards."\n\n- H. Jackson Brown
X-ALT-DESC;FMTTYPE=text/html:Dealing With Difficult People Half-Day Workshop<br />\nWednesday\, November 5<br />\n1:00 &ndash\; 4:30 pm<br />\n<br />\nDo you sometimes feel people take advantage of you? Do you pay the price for being &ldquo\;too nice&rdquo\;? Do you have a few people that you deal with regularly that just drive you crazy? Would you like to get better results when you deal with them and with everybody? Would you like to be more effective whenever conflict arises? This workshop will help you be more effective in all situations!<br />\n<br />\nWe will cover:<br />\n&bull\;&nbsp\;&nbsp\; &nbsp\;How to identify the different personality types you are faced with<br />\n&bull\;&nbsp\;&nbsp\; &nbsp\;How to deal with people more effectively under all conditions<br />\n&bull\;&nbsp\;&nbsp\; &nbsp\;Techniques to help you COMMUNICATE MORE EFFECTIVELY<br />\n&bull\;&nbsp\;&nbsp\; &nbsp\;A six-step process for keeping your S.A.N.I.T.Y.<br />\n&bull\;&nbsp\;&nbsp\; &nbsp\;A PERSONAL ACTION PLAN for your future success<br />\n&bull\;&nbsp\;&nbsp\; &nbsp\;How to get better results when you have CONFLICT in your life<br />\n&bull\;&nbsp\;&nbsp\; &nbsp\;What conflict is and how it can benefit us<br />\n&bull\;&nbsp\;&nbsp\; &nbsp\;Successful methods for resolving conflict quicker and better<br />\n&ldquo\;Swallowing angry words before you say them is better<br />\nthan having to eat them afterwards.&quot\;<br />\n- H. Jackson Brown<br />\n<br />\n&nbsp\;
LOCATION:Winona Area Chamber of Commerce Training Room 902 East Second Street Suite 120
UID:e.1434.2231
SEQUENCE:3
DTSTAMP:20260419T121212Z
URL:http://business.winonachamber.com/events/details/dealing-with-difficult-people-seminar-constant-training-11-05-2014-2231
END:VEVENT

END:VCALENDAR
