BEGIN:VCALENDAR
VERSION:2.0
PRODID:-//ChamberMaster//Event Calendar 2.0//EN
METHOD:PUBLISH
X-PUBLISHED-TTL:P3D
REFRESH-INTERVAL:P3D
CALSCALE:GREGORIAN
BEGIN:VEVENT
DTSTART:20140312T130000Z
DTEND:20140312T130000Z
X-MICROSOFT-CDO-ALLDAYEVENT:FALSE
SUMMARY:Economic Development Committee Meeting
DESCRIPTION:Economic Development Committee Meeting
X-ALT-DESC;FMTTYPE=text/html:Economic Development Committee Meeting
LOCATION:Chamber Conference Room 902 East Second Street Suite 120
UID:e.1434.1068
SEQUENCE:3
DTSTAMP:20260420T025735Z
URL:http://business.winonachamber.com/events/details/economic-development-committee-meeting-03-12-2014-1068
END:VEVENT

END:VCALENDAR
