BEGIN:VCALENDAR
VERSION:2.0
PRODID:-//ChamberMaster//Event Calendar 2.0//EN
METHOD:PUBLISH
X-PUBLISHED-TTL:P3D
REFRESH-INTERVAL:P3D
CALSCALE:GREGORIAN
BEGIN:VEVENT
DTSTART:20100914T170000Z
DTEND:20100914T183000Z
X-MICROSOFT-CDO-ALLDAYEVENT:FALSE
SUMMARY:Economic Recovery: Is it Real
DESCRIPTION:
X-ALT-DESC;FMTTYPE=text/html:
LOCATION:Winona Area Chamber of Commerce\, Inc.
UID:e.1434.522
SEQUENCE:3
DTSTAMP:20260425T033519Z
URL:http://business.winonachamber.com/events/details/economic-recovery-is-it-real-09-14-2010-522
END:VEVENT

END:VCALENDAR
