BEGIN:VCALENDAR
VERSION:2.0
PRODID:-//ChamberMaster//Event Calendar 2.0//EN
METHOD:PUBLISH
X-PUBLISHED-TTL:P3D
REFRESH-INTERVAL:P3D
CALSCALE:GREGORIAN
BEGIN:VEVENT
DTSTART:20100311T180000Z
DTEND:20100311T190000Z
X-MICROSOFT-CDO-ALLDAYEVENT:FALSE
SUMMARY:Economic Series Part 2 - Managing Your Way Through Economic
DESCRIPTION:
X-ALT-DESC;FMTTYPE=text/html:
LOCATION:Winona Area Veteran's Center
UID:e.1434.496
SEQUENCE:3
DTSTAMP:20260425T133647Z
URL:http://business.winonachamber.com/events/details/economic-series-part-2-managing-your-way-through-economic-03-11-2010-496
END:VEVENT

END:VCALENDAR
