BEGIN:VCALENDAR
VERSION:2.0
PRODID:-//ChamberMaster//Event Calendar 2.0//EN
METHOD:PUBLISH
X-PUBLISHED-TTL:P3D
REFRESH-INTERVAL:P3D
CALSCALE:GREGORIAN
BEGIN:VEVENT
DTSTART:20100422T170000Z
DTEND:20100422T180000Z
X-MICROSOFT-CDO-ALLDAYEVENT:FALSE
SUMMARY:Economic Series Part 3 - Positioning Your Business for Futur
DESCRIPTION:
X-ALT-DESC;FMTTYPE=text/html:
LOCATION:Merchants Bank of Winona
UID:e.1434.498
SEQUENCE:3
DTSTAMP:20260425T114242Z
URL:http://business.winonachamber.com/events/details/economic-series-part-3-positioning-your-business-for-futur-04-22-2010-498
END:VEVENT

END:VCALENDAR
