BEGIN:VCALENDAR
VERSION:2.0
PRODID:-//ChamberMaster//Event Calendar 2.0//EN
METHOD:PUBLISH
X-PUBLISHED-TTL:P3D
REFRESH-INTERVAL:P3D
CALSCALE:GREGORIAN
BEGIN:VEVENT
DTSTART:20141015T123000Z
DTEND:20141015T140000Z
X-MICROSOFT-CDO-ALLDAYEVENT:FALSE
SUMMARY:Eggs & Issues - Meet the Candidates
DESCRIPTION:The Government Advocacy Committee of the Winona Area Chamber of Commerce would like to invite the business community to learn more about the candidates running for City Council and County Commissioner offices
X-ALT-DESC;FMTTYPE=text/html:The Government Advocacy Committee of the Winona Area Chamber of Commerce would like to invite the business community to learn more about the candidates running for City Council and County Commissioner offices<br />\n<br />\n<br />\n<br />\n&nbsp\;
LOCATION:Perkins Restaurant
UID:e.1434.2221
SEQUENCE:3
DTSTAMP:20260419T135611Z
URL:http://business.winonachamber.com/events/details/eggs-issues-meet-the-candidates-10-15-2014-2221
END:VEVENT

END:VCALENDAR
