BEGIN:VCALENDAR
VERSION:2.0
PRODID:-//ChamberMaster//Event Calendar 2.0//EN
METHOD:PUBLISH
X-PUBLISHED-TTL:P3D
REFRESH-INTERVAL:P3D
CALSCALE:GREGORIAN
BEGIN:VEVENT
DTSTART:20140206T133000Z
DTEND:20140206T143000Z
X-MICROSOFT-CDO-ALLDAYEVENT:FALSE
SUMMARY:Eggs 'n Issues
DESCRIPTION:Eggs 'n Issues\n\nGuests: Rep. Gene Pelowski\, Rep. Steve Drazkowski\, Sen. Jeremy Miller\, Sen. Matt Schmit\n\n\n\nHosted By: Chamber Public Policy Committee\n\n\n\nSponsored by: ADM/Benson Quinn\, Bay State Milling Company\, Benchmark\, Biesanz Stone Company\, Inc.\, CD Corporation\, CHS\, Dunn Blacktop Company-Milestone Materials\, Eastwood Bank\, Knitcraft Corporation\, Lawrence Transportation Company\, Merchants Bank\, Mikrut Properties LLLP\, Miller Ingenuity\, Miller Scrap\, Minnesota State College SE Tech\, Mississippi Welders Supply Co.\, Inc.\, Peerless Industrial Group\, Rowekamp Farms\, RTP Company\, Saint Mary's University of Minnesota\, Seven Rivers Intermodal Terminals LLC\, Warneke & Associates\, Wells Fargo\, Winona Health\, Winona National Bank\, Winona State University
X-ALT-DESC;FMTTYPE=text/html:<span style="font-size: 12px"><span style="font-family: arial"><strong>Eggs &lsquo\;n Issues<br />\nGuests: Rep. Gene Pelowski\, Rep. Steve Drazkowski\, Sen. Jeremy Miller\, Sen. Matt Schmit<br />\n<br />\nHosted By: Chamber Public Policy Committee<br />\n<br />\nSponsored by:</strong></span></span> ADM/Benson Quinn\, Bay State Milling Company\, Benchmark\, Biesanz Stone Company\, Inc.\, CD Corporation\, CHS\, Dunn Blacktop Company-Milestone Materials\, Eastwood Bank\, Knitcraft Corporation\, Lawrence Transportation Company\, Merchants Bank\, Mikrut Properties LLLP\, Miller Ingenuity\, Miller Scrap\, Minnesota State College SE Tech\, Mississippi Welders Supply Co.\, Inc.\, Peerless Industrial Group\, Rowekamp Farms\, RTP Company\, Saint Mary&#39\;s University of Minnesota\, Seven Rivers Intermodal Terminals LLC\, Warneke &amp\; Associates\, Wells Fargo\, Winona Health\, Winona National Bank\, Winona State University 
LOCATION:Perkins Family Restaurant
UID:e.1434.2145
SEQUENCE:3
DTSTAMP:20260420T025414Z
URL:http://business.winonachamber.com/events/details/eggs-n-issues-02-06-2014-2145
END:VEVENT

END:VCALENDAR
