BEGIN:VCALENDAR
VERSION:2.0
PRODID:-//ChamberMaster//Event Calendar 2.0//EN
METHOD:PUBLISH
X-PUBLISHED-TTL:P3D
REFRESH-INTERVAL:P3D
CALSCALE:GREGORIAN
BEGIN:VEVENT
DTSTART:20091105T133000Z
DTEND:20091105T143000Z
X-MICROSOFT-CDO-ALLDAYEVENT:FALSE
SUMMARY:Eggs 'n Issues - Winona County Administrator
DESCRIPTION:
X-ALT-DESC;FMTTYPE=text/html:
LOCATION:Perkins
UID:e.1434.479
SEQUENCE:3
DTSTAMP:20260425T201309Z
URL:http://business.winonachamber.com/events/details/eggs-n-issues-winona-county-administrator-11-05-2009-479
END:VEVENT

END:VCALENDAR
