BEGIN:VCALENDAR
VERSION:2.0
PRODID:-//ChamberMaster//Event Calendar 2.0//EN
METHOD:PUBLISH
X-PUBLISHED-TTL:P3D
REFRESH-INTERVAL:P3D
CALSCALE:GREGORIAN
BEGIN:VEVENT
DTSTART:20090723T123000Z
DTEND:20090723T133000Z
X-MICROSOFT-CDO-ALLDAYEVENT:FALSE
SUMMARY:Eggs 'n Issues - Winona County Proposed Zoning Ordinance
DESCRIPTION:
X-ALT-DESC;FMTTYPE=text/html:
LOCATION:Perkins
UID:e.1434.467
SEQUENCE:3
DTSTAMP:20260426T020746Z
URL:http://business.winonachamber.com/events/details/eggs-n-issues-winona-county-proposed-zoning-ordinance-07-23-2009-467
END:VEVENT

END:VCALENDAR
