BEGIN:VCALENDAR
VERSION:2.0
PRODID:-//ChamberMaster//Event Calendar 2.0//EN
METHOD:PUBLISH
X-PUBLISHED-TTL:P3D
REFRESH-INTERVAL:P3D
CALSCALE:GREGORIAN
BEGIN:VEVENT
DTSTART:20100929T130000Z
DTEND:20101013T220000Z
X-MICROSOFT-CDO-ALLDAYEVENT:FALSE
SUMMARY:Fall course
DESCRIPTION:For complete details visit us at www.minnesotadalecarnegie.com\nLook around you at successful business people\, world leaders\, professional athletes and entertainers.  You’ll find that a very high number of them use the principles they learned in Strictly Business: The Dale Carnegie Immersion Seminarto power their careers.\n\nNow you can acquire the same skills and attitudes they use to achieve amazing results.  Attend the Strictly Business: The Dale Carnegie Immersion Seminar and prepare yourself to join the ranks of the world’s most successful people.\n\nThis unique three-day seminar will help you master the skills you need to excel in today’s competitive workplace.  You’ll learn to handlepeople more professionally and keep pace with fast-changing workplace conditions.\n\nAfter you complete the seminar\, you’ll be equipped to perform as a persuasive communicator\, creative problem solver and intelligent risk-taker.  And you’ll develop a take-charge attitude that will help you get organized as a confident\, enthusiastic leader.\n\nYour seminar experience will power you beyond your comfort zone and help you stretch for and attain ambitious new goals.  The program emphasizes the principles of success and shows you how to put them into action every day. \n\nDon’t miss this opportunity to join the ranks of the world’s most successful people.  \n\nThree Consecutive Wednesdays 8am to5pm\nSept 29th Oct 6th Oct 13th Locations Saint Mary’s University of Minnesota\, Winona\nContact: Paul Piechowski 507 289 8667 Paul_Piechowski@dalecarnegie.com
X-ALT-DESC;FMTTYPE=text/html:For complete details visit us at www.minnesotadalecarnegie.com\nLook around you at successful business people\, world leaders\, professional athletes and entertainers.  You’ll find that a very high number of them use the principles they learned in Strictly Business: The Dale Carnegie Immersion Seminarto power their careers.\n\nNow you can acquire the same skills and attitudes they use to achieve amazing results.  Attend the Strictly Business: The Dale Carnegie Immersion Seminar and prepare yourself to join the ranks of the world’s most successful people.\n\nThis unique three-day seminar will help you master the skills you need to excel in today’s competitive workplace.  You’ll learn to handlepeople more professionally and keep pace with fast-changing workplace conditions.\n\nAfter you complete the seminar\, you’ll be equipped to perform as a persuasive communicator\, creative problem solver and intelligent risk-taker.  And you’ll develop a take-charge attitude that will help you get organized as a confident\, enthusiastic leader.\n\nYour seminar experience will power you beyond your comfort zone and help you stretch for and attain ambitious new goals.  The program emphasizes the principles of success and shows you how to put them into action every day. \n\nDon’t miss this opportunity to join the ranks of the world’s most successful people.  \n\nThree Consecutive Wednesdays 8am to5pm\nSept 29th Oct 6th Oct 13th Locations Saint Mary’s University of Minnesota\, Winona\nContact: Paul Piechowski 507 289 8667 Paul_Piechowski@dalecarnegie.com
LOCATION:
UID:e.1434.345
SEQUENCE:3
DTSTAMP:20260425T015805Z
URL:http://business.winonachamber.com/events/details/fall-course-09-29-2010-345
END:VEVENT

END:VCALENDAR
