BEGIN:VCALENDAR
VERSION:2.0
PRODID:-//ChamberMaster//Event Calendar 2.0//EN
METHOD:PUBLISH
X-PUBLISHED-TTL:P3D
REFRESH-INTERVAL:P3D
CALSCALE:GREGORIAN
BEGIN:VEVENT
DTSTART:20090610T220000Z
DTEND:20090611T010000Z
X-MICROSOFT-CDO-ALLDAYEVENT:FALSE
SUMMARY:Family Night on the Farm - 2009
DESCRIPTION:
X-ALT-DESC;FMTTYPE=text/html:
LOCATION:D & D Dairy
UID:e.1434.465
SEQUENCE:3
DTSTAMP:20260426T033527Z
URL:http://business.winonachamber.com/events/details/family-night-on-the-farm-2009-06-10-2009-465
END:VEVENT

END:VCALENDAR
