BEGIN:VCALENDAR
VERSION:2.0
PRODID:-//ChamberMaster//Event Calendar 2.0//EN
METHOD:PUBLISH
X-PUBLISHED-TTL:P3D
REFRESH-INTERVAL:P3D
CALSCALE:GREGORIAN
BEGIN:VEVENT
DTSTART:20120621T220000Z
DTEND:20120622T010000Z
X-MICROSOFT-CDO-ALLDAYEVENT:FALSE
SUMMARY:Family Night on the Farm - 2012 at the Daley Farms of Lewiston
DESCRIPTION:Winona Area Chamber of Commerce\n\n	Family Night on the Farm\n\n	June 21st\, 2012\n\n	5:00 pm - 8:00 pm\n\n	\n\n	Daley Farms of Lewiston\n\n	One and One-half miles West of Lewiston on Highway 14\n\n	\n\n	  Games  & Hay Rides\n\n	\n		  Children's "Train" wagon\n	\n		  Farm Machinery Display\n	\n		  Cow milking station\n	\n		  LIVE MUSIC\n	\n\n	Family Style Picnic Dinner Includes: \n\n	Brats & Hot Dogs - Baked Beans Chips -Root Beer Floats\n\n	Milk & Coffee\n\n	Tickets: \n\n	Adults: $7.00 \n\n	Kids under10: $4.00 \n\n	Family: $25.00 \n\n	 (family: max. of 6 individuals which includes Mom\, Dad & kids 16 & under)\n\n	\n\n	Tickets can be purchased on site at the farm that evening or prior to the event at the Winona Chamber of Commerce
X-ALT-DESC;FMTTYPE=text/html:<br />\n<div style="language:en-US\;line-height:normal\;margin-top:0pt\;margin-bottom:0pt\;margin-left:0in\;margin-right:0in\;text-indent:0in\;text-align:left\;direction:ltr\;unicode-bidi:embed\;vertical-align:baseline\;word-break:normal\;punctuation-wrap:hanging\;">\n	<span style="font-size: 16px\;"><span style="font-family: tahoma\;"><span style="color: rgb(139\, 69\, 19)\;"><span>Winona Area Chamber of Commerce<br />\n	<strong>Family Night on the Farm</strong><br />\n	June 21st\, 2012<br />\n	5:00 pm - 8:00 pm</span></span></span></span><br />\n	<br />\n	<span style="font-size:16px\;"><span style="font-family: tahoma\;"><span style="color: rgb(139\, 69\, 19)\;"><span>Daley Farms of Lewiston<br />\n	One and One-half miles West of Lewiston on </span><span>Highway 14</span></span></span></span><br />\n	<br />\n	<span style="font-size:16px\;"><span style="font-family: tahoma\;"><span style="color: rgb(139\, 69\, 19)\;">&bull\;<span style="font-variant: normal\; text-transform: none\; font-weight: normal\; font-style: normal\; vertical-align: baseline\;"> Games&nbsp\; &amp\;&nbsp\;Hay Rides</span></span></span></span><br />\n	<div style="language:en-US\;line-height:normal\;margin-top:0pt\;margin-bottom:0pt\;margin-left:0in\;margin-right:0in\;text-indent:0in\;text-align:left\;direction:ltr\;unicode-bidi:embed\;vertical-align:baseline\;word-break:normal\;punctuation-wrap:simple\;">\n		<span style="font-size:16px\;"><span style="font-family: tahoma\;"><span style="color: rgb(139\, 69\, 19)\;">&bull\;<span style="font-variant: normal\; text-transform: none\; font-weight: normal\; font-style: normal\; vertical-align: baseline\;"> Children&rsquo\;s &ldquo\;Train&rdquo\; wagon</span></span></span></span></div>\n	<div style="language:en-US\;line-height:normal\;margin-top:0pt\;margin-bottom:0pt\;margin-left:0in\;margin-right:0in\;text-indent:0in\;text-align:left\;direction:ltr\;unicode-bidi:embed\;vertical-align:baseline\;word-break:normal\;punctuation-wrap:simple\;">\n		<span style="font-size:16px\;"><span style="font-family: tahoma\;"><span style="color: rgb(139\, 69\, 19)\;">&bull\;<span style="font-variant: normal\; text-transform: none\; font-weight: normal\; font-style: normal\; vertical-align: baseline\;">&nbsp\;Farm Machinery Display</span></span></span></span></div>\n	<div style="language:en-US\;line-height:normal\;margin-top:0pt\;margin-bottom:0pt\;margin-left:0in\;margin-right:0in\;text-indent:0in\;text-align:left\;direction:ltr\;unicode-bidi:embed\;vertical-align:baseline\;word-break:normal\;punctuation-wrap:simple\;">\n		<span style="font-size:16px\;"><span style="font-family: tahoma\;"><span style="color: rgb(139\, 69\, 19)\;">&bull\;<span style="font-variant: normal\; text-transform: none\; font-weight: normal\; font-style: normal\; vertical-align: baseline\;">&nbsp\;Cow milking station</span></span></span></span></div>\n	<div style="language:en-US\;line-height:normal\;margin-top:0pt\;margin-bottom:0pt\;margin-left:0in\;margin-right:0in\;text-indent:0in\;text-align:left\;direction:ltr\;unicode-bidi:embed\;vertical-align:baseline\;word-break:normal\;punctuation-wrap:simple\;">\n		<span style="font-size:16px\;"><span style="font-family: tahoma\;"><span style="color: rgb(139\, 69\, 19)\;">&bull\;<span style="font-variant: normal\; text-transform: none\; font-weight: normal\; font-style: normal\; vertical-align: baseline\;"> LIVE MUSIC</span></span></span></span></div>\n	<br />\n	<span style="font-size:16px\;"><span style="font-family: tahoma\;"><span style="color: rgb(139\, 69\, 19)\;"><span>Family Style Picnic Dinner Includes:&nbsp\;<br />\n	Brats &amp\; Hot Dogs - Baked Beans Chips -Root Beer Floats</span><br />\n	<span>Milk &amp\; Coffee</span><br />\n	<span>Tickets: </span><br />\n	<span>Adults: $7.00 </span><br />\n	<span>Kids under10: $4.00 </span><br />\n	<span>Family: $25.00 </span><br />\n	&nbsp\;<span>(family: max. of 6 individuals which includes Mom\, Dad &amp\; kids 16 &amp\; under)</span><br />\n	<br />\n	<span>Tickets can be purchased on </span><span>site at the farm that evening </span><span>or prior to the event at the </span><span>Winona Chamber of Commerce</span></span></span></span></div>\n
LOCATION:Daley Farms of Lewiston One and One-half miles West of Lewiston on Highway 14
UID:e.1434.632
SEQUENCE:3
DTSTAMP:20260423T112019Z
URL:http://business.winonachamber.com/events/details/family-night-on-the-farm-2012-at-the-daley-farms-of-lewiston-06-21-2012-632
END:VEVENT

END:VCALENDAR
