BEGIN:VCALENDAR
VERSION:2.0
PRODID:-//ChamberMaster//Event Calendar 2.0//EN
METHOD:PUBLISH
X-PUBLISHED-TTL:P3D
REFRESH-INTERVAL:P3D
CALSCALE:GREGORIAN
BEGIN:VEVENT
DTSTART:20111206T173000Z
DTEND:20111206T190000Z
X-MICROSOFT-CDO-ALLDAYEVENT:FALSE
SUMMARY:Frac Sand Get the Facts
DESCRIPTION:The Winona Area Chamber of Commerce Government Advocacy Committee will be hosting a luncheon on Tuesday\, February 28\, for members to speak with state elescted officals about business concerns.
X-ALT-DESC;FMTTYPE=text/html:The Winona Area Chamber of Commerce Government Advocacy Committee will be hosting a luncheon on Tuesday\, February 28\, for members to speak with state elescted officals about business concerns. 
LOCATION:Winona Area Chamber of Commerce\, Inc.
UID:e.1434.609
SEQUENCE:3
DTSTAMP:20260423T230453Z
URL:http://business.winonachamber.com/events/details/frac-sand-get-the-facts-12-06-2011-609
END:VEVENT

END:VCALENDAR
