BEGIN:VCALENDAR
VERSION:2.0
PRODID:-//ChamberMaster//Event Calendar 2.0//EN
METHOD:PUBLISH
X-PUBLISHED-TTL:P3D
REFRESH-INTERVAL:P3D
CALSCALE:GREGORIAN
BEGIN:VEVENT
DTSTART:20131112T133000Z
DTEND:20131112T143000Z
X-MICROSOFT-CDO-ALLDAYEVENT:FALSE
SUMMARY:Friends of Main Street Social
DESCRIPTION:This is an informal event which will allow you to network with other Friends of Main Street. Additionally\, it is an opportunity for staff and volunteers to say thank you for all your support!
X-ALT-DESC;FMTTYPE=text/html:This is an informal event which will allow you to network with other Friends of Main Street. Additionally\, it is an opportunity for staff and volunteers to say thank you for all your support!
LOCATION:Winona County History Center 160 Johnson Street Winona MN
UID:e.1434.2127
SEQUENCE:3
DTSTAMP:20260420T075712Z
URL:http://business.winonachamber.com/events/details/friends-of-main-street-social-11-12-2013-2127
END:VEVENT

END:VCALENDAR
