BEGIN:VCALENDAR
VERSION:2.0
PRODID:-//ChamberMaster//Event Calendar 2.0//EN
METHOD:PUBLISH
X-PUBLISHED-TTL:P3D
REFRESH-INTERVAL:P3D
CALSCALE:GREGORIAN
BEGIN:VEVENT
DTSTART:20110503T170000Z
DTEND:20110503T180000Z
X-MICROSOFT-CDO-ALLDAYEVENT:FALSE
SUMMARY:Getting the Most from Your Chamber Membership
DESCRIPTION:This is an opportunity for new members\, new managers\, new owners or anyone else who would like a refresher on the benefits of Chamber membership.  You can use this event to introduce your business\, meet and network with fellow Chamber members\, Chamber staff\, Chamber Board and Chamber Committee members.  Be sure to bring plenty of business cards and business brochures
X-ALT-DESC;FMTTYPE=text/html:This is an opportunity for new members\, new managers\, new owners or anyone else who would like a refresher on the benefits of Chamber membership.  You can use this event to introduce your business\, meet and network with fellow Chamber members\, Chamber staff\, Chamber Board and Chamber Committee members.  Be sure to bring plenty of business cards and business brochures
LOCATION:Winona Area Chamber of Commerce\, Inc.
UID:e.1434.583
SEQUENCE:3
DTSTAMP:20260424T120146Z
URL:http://business.winonachamber.com/events/details/getting-the-most-from-your-chamber-membership-05-03-2011-583
END:VEVENT

END:VCALENDAR
