BEGIN:VCALENDAR
VERSION:2.0
PRODID:-//ChamberMaster//Event Calendar 2.0//EN
METHOD:PUBLISH
X-PUBLISHED-TTL:P3D
REFRESH-INTERVAL:P3D
CALSCALE:GREGORIAN
BEGIN:VEVENT
DTSTART:20140729T130000Z
DTEND:20140729T140000Z
X-MICROSOFT-CDO-ALLDAYEVENT:FALSE
SUMMARY:Getting the Most from Your Chamber Membership
DESCRIPTION:Getting the Most from YOUR Chamber Membership\n\n\n\n* Get the Most "bang for your buck"\n\n* No cost ways to get more benefits\n\n\n\nThis is an opportunity for new members\, new managers\, new owners or anyone else who would like a refresher on the benefits of Chamber membership. You can use this event to introduce your business\, meet and network with fellow Chamber members\, Chamber staff\, Chamber Board and Chamber Committee members. Be sure to bring plenty of business cards and business brochures
X-ALT-DESC;FMTTYPE=text/html:Getting the Most from YOUR Chamber Membership<br />\n<br />\n* Get the Most &quot\;bang for your buck&quot\;<br />\n* No cost ways to get more benefits<br />\n<br />\nThis is an opportunity for new members\, new managers\, new owners or anyone else who would like a refresher on the benefits of Chamber membership. You can use this event to introduce your business\, meet and network with fellow Chamber members\, Chamber staff\, Chamber Board and Chamber Committee members. Be sure to bring plenty of business cards and business brochures
LOCATION:Winona Area Chamber of Commerce Conference Room 902 East Second Street\, Suite 120
UID:e.1434.2192
SEQUENCE:3
DTSTAMP:20260419T184009Z
URL:http://business.winonachamber.com/events/details/getting-the-most-from-your-chamber-membership-07-29-2014-2192
END:VEVENT

END:VCALENDAR
