BEGIN:VCALENDAR
VERSION:2.0
PRODID:-//ChamberMaster//Event Calendar 2.0//EN
METHOD:PUBLISH
X-PUBLISHED-TTL:P3D
REFRESH-INTERVAL:P3D
CALSCALE:GREGORIAN
BEGIN:VEVENT
DTSTART:20110602T163000Z
DTEND:20110602T233000Z
X-MICROSOFT-CDO-ALLDAYEVENT:FALSE
SUMMARY:Golf Outing 2011 - 12th Annual
DESCRIPTION:
X-ALT-DESC;FMTTYPE=text/html:
LOCATION:Cedar Valley Golf Course
UID:e.1434.581
SEQUENCE:3
DTSTAMP:20260424T075243Z
URL:http://business.winonachamber.com/events/details/golf-outing-2011-12th-annual-06-02-2011-581
END:VEVENT

END:VCALENDAR
