BEGIN:VCALENDAR
VERSION:2.0
PRODID:-//ChamberMaster//Event Calendar 2.0//EN
METHOD:PUBLISH
X-PUBLISHED-TTL:P3D
REFRESH-INTERVAL:P3D
CALSCALE:GREGORIAN
BEGIN:VEVENT
DTSTART:20101216T180000Z
DTEND:20101216T190000Z
X-MICROSOFT-CDO-ALLDAYEVENT:FALSE
SUMMARY:Health Care Webinar Series - 1
DESCRIPTION:A three-part webinar series has been created by the MN Chamber to assist employers in understanding and implementing the Patient Protection and Affordable Care Act (HR 3590).\nThe program will cover the new Health Insurance Exchanges under PPACA and the new laws scheduled to take effect on January 1\, 2011 (e.g. Small Business Tax Credit\, W-2 Reporting\, HSA Limits & Penalty\, FSA Limits\, Brand-Name Drug Tax\, Federally Subsidized Long-Term Care and Physician Ownership Referral).
X-ALT-DESC;FMTTYPE=text/html:A three-part webinar series has been created by the MN Chamber to assist employers in understanding and implementing the Patient Protection and Affordable Care Act (HR 3590).\nThe program will cover the new Health Insurance Exchanges under PPACA and the new laws scheduled to take effect on January 1\, 2011 (e.g. Small Business Tax Credit\, W-2 Reporting\, HSA Limits & Penalty\, FSA Limits\, Brand-Name Drug Tax\, Federally Subsidized Long-Term Care and Physician Ownership Referral).   
LOCATION:Winona Area Chamber of Commerce\, Inc.
UID:e.1434.544
SEQUENCE:3
DTSTAMP:20260425T002607Z
URL:http://business.winonachamber.com/events/details/health-care-webinar-series-1-12-16-2010-544
END:VEVENT

END:VCALENDAR
