BEGIN:VCALENDAR
VERSION:2.0
PRODID:-//ChamberMaster//Event Calendar 2.0//EN
METHOD:PUBLISH
X-PUBLISHED-TTL:P3D
REFRESH-INTERVAL:P3D
CALSCALE:GREGORIAN
BEGIN:VEVENT
DTSTART:20120718T163000Z
DTEND:20120718T180000Z
X-MICROSOFT-CDO-ALLDAYEVENT:FALSE
SUMMARY:Health Insurance Reform: Next Steps for MN Webinar
DESCRIPTION:The U.S. Supreme Court ruled 5-4 on June 28th to uphold the federal health care reform law\; many questions still remain. The Winona Area Chamber of Commerce\, in partnership with the\n\nMinnesota Chamber\, is ready to assist employers in analyzing the impact of this decision on  businesses and their employees.\n\n \n\nMinnesota must move forward to \n\nimplement the law's requirements collaboratively and effectively. The local and Minnesota Chamber remains \n\nengaged in protecting your priorities on healthcare reform: Ensuring quality\, \n\naffordability and access. The Chamber will be your first source of information as the law is implemented through additional legislations\, rules and regulation. \n\n \n\nYour first opportunity is the webinar \n\non July 18: "What the ruling means for your business & your employees"
X-ALT-DESC;FMTTYPE=text/html:<span style="language:en-US\;"><span style="font-size:14.0pt\;">The U.S. Supreme Court ruled 5-4 on June 28th to uphold the federal health care reform law\; many questions still remain. The Winona Area Chamber of Commerce\, in partnership with the</span></span><br />\n<span style="language:en-US\;"><span style="font-size:14.0pt\;">Minnesota Chamber\, is ready to assist employers in analyzing the impact of this decision on&nbsp\; businesses and their employees.</span></span><br />\n&nbsp\;<br />\n<span style="language:en-US\;"><span style="font-size:14.0pt\;">Minnesota must move forward to </span></span><br />\n<span style="language:en-US\;"><span style="font-size:14.0pt\;">implement the law&rsquo\;s requirements collaboratively and effectively. The local and Minnesota Chamber remains </span></span><br />\n<span style="language:en-US\;"><span style="font-size:14.0pt\;">engaged in protecting your priorities on healthcare reform: Ensuring quality\, </span></span><br />\n<span style="language:en-US\;"><span style="font-size:14.0pt\;">affordability and access. The Chamber will be your first source of information as the law is implemented through additional legislations\, rules and regulation. </span></span><br />\n&nbsp\;<br />\n<span style="language:en-US\;"><span style="font-size:14.0pt\;">Your first opportunity is the webinar </span></span><br />\n<span style="language:en-US\;"><span style="font-size:14.0pt\;">on July 18: </span></span><span style="font-weight:bold\;language:en-US\;"><span style="font-size:14.0pt\;">&ldquo\;What the ruling means for your business &amp\; your employees&rdquo\;</span></span><br />\n&nbsp\;
LOCATION:Winona Area Chamber of Commerce Office\, 902 East 2nd St\, Suite 120
UID:e.1434.638
SEQUENCE:3
DTSTAMP:20260423T093313Z
URL:http://business.winonachamber.com/events/details/health-insurance-reform-next-steps-for-mn-webinar-07-18-2012-638
END:VEVENT

END:VCALENDAR
