BEGIN:VCALENDAR
VERSION:2.0
PRODID:-//ChamberMaster//Event Calendar 2.0//EN
METHOD:PUBLISH
X-PUBLISHED-TTL:P3D
REFRESH-INTERVAL:P3D
CALSCALE:GREGORIAN
BEGIN:VEVENT
DTSTART:20140917T123000Z
DTEND:20140917T140000Z
X-MICROSOFT-CDO-ALLDAYEVENT:FALSE
SUMMARY:Highway 43 Mississippi Bridge Update Meeting
DESCRIPTION:The Winona Area Chamber of Commerce Transportation Committee will be hosting the Highway 43 Mississippi Bridge Update\, on Wednesday\, September 17 at 7:30 am at Timbers. The purpose of the meeting is to learn about the current status and next steps of the Highway 43 Bridge project.
X-ALT-DESC;FMTTYPE=text/html:The Winona Area Chamber of Commerce Transportation Committee will be hosting <u>the Highway 43 Mississippi Bridge Update</u>\, on <strong>Wednesday\, September 17 at 7:30 am at Timbers.</strong> The purpose of the meeting is to learn about the current status and next steps of the Highway 43 Bridge project.<br />\n&nbsp\;
LOCATION:Timbers Restaurant 270 West Third Street Winona
UID:e.1434.2210
SEQUENCE:3
DTSTAMP:20260419T153913Z
URL:http://business.winonachamber.com/events/details/highway-43-mississippi-bridge-update-meeting-09-17-2014-2210
END:VEVENT

END:VCALENDAR
