BEGIN:VCALENDAR
VERSION:2.0
PRODID:-//ChamberMaster//Event Calendar 2.0//EN
METHOD:PUBLISH
X-PUBLISHED-TTL:P3D
REFRESH-INTERVAL:P3D
CALSCALE:GREGORIAN
BEGIN:VEVENT
DTSTART:20111101T230000Z
DTEND:20111102T013000Z
X-MICROSOFT-CDO-ALLDAYEVENT:FALSE
SUMMARY:Holiday Hunt 2011 - Participant
DESCRIPTION:
X-ALT-DESC;FMTTYPE=text/html:
LOCATION:Winona Area Chamber of Commerce\, Inc.
UID:e.1434.603
SEQUENCE:3
DTSTAMP:20260424T001440Z
URL:http://business.winonachamber.com/events/details/holiday-hunt-2011-participant-11-01-2011-603
END:VEVENT

END:VCALENDAR
